BEGIN:VCALENDAR
VERSION:2.0
PRODID:-//Tukios.com/
BEGIN:VEVENT
UID:d2d17ad2-7ba1-4ba6-9ff4-b13514a2d8b7@www.beltwaycremationcenter.com
DTSTAMP:20260425T001925Z
DTSTART:20260427T153000Z
DTEND:20260427T173000Z
SUMMARY:Funeral Service
DESCRIPTION:Please join the Salinas family in a visitation and service to 
	honor the life of Manuel Antonio Salinas Guerrero.
URL:https://www.beltwaycremationcenter.com/obituaries/manuel-salinas-guerrero
LOCATION:St Martin Of Tours Church 201 S Frederick Ave  Gaithersburg MD 
	20877
GEO:39.13862;-77.19439
END:VEVENT
END:VCALENDAR